BEGIN:VCALENDAR
VERSION:2.0
PRODID:-//Life at Play - ECPv6.15.20//NONSGML v1.0//EN
CALSCALE:GREGORIAN
METHOD:PUBLISH
X-ORIGINAL-URL:https://lifeatplay.co
X-WR-CALDESC:Events for Life at Play
REFRESH-INTERVAL;VALUE=DURATION:PT1H
X-Robots-Tag:noindex
X-PUBLISHED-TTL:PT1H
BEGIN:VTIMEZONE
TZID:America/New_York
BEGIN:DAYLIGHT
TZOFFSETFROM:-0500
TZOFFSETTO:-0400
TZNAME:EDT
DTSTART:20250309T070000
END:DAYLIGHT
BEGIN:STANDARD
TZOFFSETFROM:-0400
TZOFFSETTO:-0500
TZNAME:EST
DTSTART:20251102T060000
END:STANDARD
BEGIN:DAYLIGHT
TZOFFSETFROM:-0500
TZOFFSETTO:-0400
TZNAME:EDT
DTSTART:20260308T070000
END:DAYLIGHT
BEGIN:STANDARD
TZOFFSETFROM:-0400
TZOFFSETTO:-0500
TZNAME:EST
DTSTART:20261101T060000
END:STANDARD
BEGIN:DAYLIGHT
TZOFFSETFROM:-0500
TZOFFSETTO:-0400
TZNAME:EDT
DTSTART:20270314T070000
END:DAYLIGHT
BEGIN:STANDARD
TZOFFSETFROM:-0400
TZOFFSETTO:-0500
TZNAME:EST
DTSTART:20271107T060000
END:STANDARD
END:VTIMEZONE
BEGIN:VEVENT
DTSTART;TZID=America/New_York:20260425T170000
DTEND;TZID=America/New_York:20260425T200000
DTSTAMP:20260420T190926
CREATED:20260416T173550Z
LAST-MODIFIED:20260416T173550Z
UID:10007380-1777136400-1777147200@lifeatplay.co
SUMMARY:Chris Artabasy Solo Exhibition at Sardis
DESCRIPTION:When: Saturday\, April 25Time: 5:00 PM – 8:00 PM EDTWhere: Sardis\, 9 Sardis Trail\, Chattahoochee Hills\, GA 30268 \nChris Artabasy Solo Exhibition at Sardis\nYou are invited to an evening featuring new works by Chris Artabasy at Sardis in Chattahoochee Hills. \nHis collection explores light\, movement\, and atmosphere. The result is contemporary visual storytelling presented in an intimate setting. \nThis local art event is perfect for anyone who enjoys creativity\, culture\, and inspiring experiences near Serenbe and South Atlanta. \nHosted By\nDanielle\, Jim\, and Joel. \nFor more information\, please visit Chris Artabasy website.
URL:https://lifeatplay.co/event/chris-artabasy-solo-exhibition-sardis/
LOCATION:Sardis\, 9 Sardis Trail\, Chattahoochee Hills\, GA\, 30268
CATEGORIES:Arts & Culture,In Serenbe,Pop Up
END:VEVENT
END:VCALENDAR