BEGIN:VCALENDAR
VERSION:2.0
PRODID:-//Life at Play - ECPv6.15.20//NONSGML v1.0//EN
CALSCALE:GREGORIAN
METHOD:PUBLISH
X-WR-CALNAME:Life at Play
X-ORIGINAL-URL:https://lifeatplay.co
X-WR-CALDESC:Events for Life at Play
REFRESH-INTERVAL;VALUE=DURATION:PT1H
X-Robots-Tag:noindex
X-PUBLISHED-TTL:PT1H
BEGIN:VTIMEZONE
TZID:America/New_York
BEGIN:DAYLIGHT
TZOFFSETFROM:-0500
TZOFFSETTO:-0400
TZNAME:EDT
DTSTART:20250309T070000
END:DAYLIGHT
BEGIN:STANDARD
TZOFFSETFROM:-0400
TZOFFSETTO:-0500
TZNAME:EST
DTSTART:20251102T060000
END:STANDARD
BEGIN:DAYLIGHT
TZOFFSETFROM:-0500
TZOFFSETTO:-0400
TZNAME:EDT
DTSTART:20260308T070000
END:DAYLIGHT
BEGIN:STANDARD
TZOFFSETFROM:-0400
TZOFFSETTO:-0500
TZNAME:EST
DTSTART:20261101T060000
END:STANDARD
BEGIN:DAYLIGHT
TZOFFSETFROM:-0500
TZOFFSETTO:-0400
TZNAME:EDT
DTSTART:20270314T070000
END:DAYLIGHT
BEGIN:STANDARD
TZOFFSETFROM:-0400
TZOFFSETTO:-0500
TZNAME:EST
DTSTART:20271107T060000
END:STANDARD
END:VTIMEZONE
BEGIN:VEVENT
DTSTART;TZID=America/New_York:20260418T180000
DTEND;TZID=America/New_York:20260418T210000
DTSTAMP:20260420T163047
CREATED:20260323T170522Z
LAST-MODIFIED:20260323T170522Z
UID:10007314-1776535200-1776546000@lifeatplay.co
SUMMARY:Daughter Dance Palmetto | Community Event
DESCRIPTION:When: Saturday\, April 18Time: 6:00 PM – 9:00 PMWhere: Former Palmetto Baptist ChurchAddress: 451 West Street\, Palmetto\, GA \nDaughter Dance Palmetto is a special community event designed to bring fathers and daughters together for an evening of music\, dancing\, and connection. This Daughter Dance Palmetto celebration creates a fun and welcoming space for families across Chattahoochee Hills and the surrounding area. \nDuring the event\, families can enjoy music\, dancing\, and time together in a relaxed and joyful setting. In addition\, the Daughter Dance Palmetto event encourages community connection and creates meaningful experiences for both parents and children. \nThis event is open to the community and is designed to include families from Serenbe\, Palmetto\, and nearby areas. Because space may be limited\, early interest and participation are encouraged. \nYou can register at https://www.eventbrite.com/e/the-daughter-dance-tickets-1985316454960
URL:https://lifeatplay.co/event/daughter-dance-palmetto/
LOCATION:Former Palmetto  Baptist Church\, 451 West St\, Palmetto\, GA\, 30268
CATEGORIES:Pop Up,RSVP Required
END:VEVENT
END:VCALENDAR