BEGIN:VCALENDAR
VERSION:2.0
PRODID:-//Life at Play - ECPv6.15.20//NONSGML v1.0//EN
CALSCALE:GREGORIAN
METHOD:PUBLISH
X-ORIGINAL-URL:https://lifeatplay.co
X-WR-CALDESC:Events for Life at Play
REFRESH-INTERVAL;VALUE=DURATION:PT1H
X-Robots-Tag:noindex
X-PUBLISHED-TTL:PT1H
BEGIN:VTIMEZONE
TZID:America/New_York
BEGIN:DAYLIGHT
TZOFFSETFROM:-0500
TZOFFSETTO:-0400
TZNAME:EDT
DTSTART:20250309T070000
END:DAYLIGHT
BEGIN:STANDARD
TZOFFSETFROM:-0400
TZOFFSETTO:-0500
TZNAME:EST
DTSTART:20251102T060000
END:STANDARD
BEGIN:DAYLIGHT
TZOFFSETFROM:-0500
TZOFFSETTO:-0400
TZNAME:EDT
DTSTART:20260308T070000
END:DAYLIGHT
BEGIN:STANDARD
TZOFFSETFROM:-0400
TZOFFSETTO:-0500
TZNAME:EST
DTSTART:20261101T060000
END:STANDARD
BEGIN:DAYLIGHT
TZOFFSETFROM:-0500
TZOFFSETTO:-0400
TZNAME:EDT
DTSTART:20270314T070000
END:DAYLIGHT
BEGIN:STANDARD
TZOFFSETFROM:-0400
TZOFFSETTO:-0500
TZNAME:EST
DTSTART:20271107T060000
END:STANDARD
END:VTIMEZONE
BEGIN:VEVENT
DTSTART;TZID=America/New_York:20260509T101500
DTEND;TZID=America/New_York:20260509T113000
DTSTAMP:20260420T233317
CREATED:20260420T151640Z
LAST-MODIFIED:20260420T151640Z
UID:10007381-1778321700-1778326200@lifeatplay.co
SUMMARY:Energetic Reset: A Guided Reiki & Biofield Experience with Alex Bravo
DESCRIPTION:Join us for a 75-minute small-group energy medicine session combining Reiki and precision frequency therapy to support nervous system regulation\, emotional integration\, and a return to calm. \nReiki works through the human biofield\, the subtle electromagnetic field surrounding the body\, much like a Wi-Fi signal carrying invisible information that produces very real effects. When stress disrupts this field\, the nervous system can remain stuck in prolonged activation. Through focused energetic attunement layered with precision vibrational frequency therapy\, this session gently restores coherence\, inviting the body back into its natural rhythm of regulation\, integration\, and healing. \nEach session is thoughtfully curated by Alex Bravo\, a Level Three certified Reiki Master in the lineage of Dr. Usui\, weaving clinical research on biofield therapies with formal training in Lifestyle and Wellness Coaching through Harvard Medical School Executive Education into an experience that meets you exactly where you are.
URL:https://lifeatplay.co/event/guided-reiki-biofield-experience-alex-bravo/
LOCATION:Soul Barn at Serenbe\, 9237 Selborne Ln\, Palmetto\, GA\, 30268\, United States
CATEGORIES:Health & Wellness
ATTACH;FMTTYPE=image/png:https://lifeatplay.co/wp-content/uploads/2026/04/Reiki-Img7.png
ORGANIZER;CN="Alex Bravo":MAILTO:alexbravo@bravoch.com
END:VEVENT
END:VCALENDAR