BEGIN:VCALENDAR
VERSION:2.0
PRODID:-//Life at Play - ECPv6.15.20//NONSGML v1.0//EN
CALSCALE:GREGORIAN
METHOD:PUBLISH
X-ORIGINAL-URL:https://lifeatplay.co
X-WR-CALDESC:Events for Life at Play
REFRESH-INTERVAL;VALUE=DURATION:PT1H
X-Robots-Tag:noindex
X-PUBLISHED-TTL:PT1H
BEGIN:VTIMEZONE
TZID:America/New_York
BEGIN:DAYLIGHT
TZOFFSETFROM:-0500
TZOFFSETTO:-0400
TZNAME:EDT
DTSTART:20250309T070000
END:DAYLIGHT
BEGIN:STANDARD
TZOFFSETFROM:-0400
TZOFFSETTO:-0500
TZNAME:EST
DTSTART:20251102T060000
END:STANDARD
BEGIN:DAYLIGHT
TZOFFSETFROM:-0500
TZOFFSETTO:-0400
TZNAME:EDT
DTSTART:20260308T070000
END:DAYLIGHT
BEGIN:STANDARD
TZOFFSETFROM:-0400
TZOFFSETTO:-0500
TZNAME:EST
DTSTART:20261101T060000
END:STANDARD
BEGIN:DAYLIGHT
TZOFFSETFROM:-0500
TZOFFSETTO:-0400
TZNAME:EDT
DTSTART:20270314T070000
END:DAYLIGHT
BEGIN:STANDARD
TZOFFSETFROM:-0400
TZOFFSETTO:-0500
TZNAME:EST
DTSTART:20271107T060000
END:STANDARD
END:VTIMEZONE
BEGIN:VEVENT
DTSTART;TZID=America/New_York:20261118T080000
DTEND;TZID=America/New_York:20261118T120000
DTSTAMP:20260421T010617
CREATED:20260225T164858Z
LAST-MODIFIED:20260225T164858Z
UID:10007142-1794988800-1795003200@lifeatplay.co
SUMMARY:Serenbe Farms Volunteer Day | Get Your Hands Dirty Wednesdays
DESCRIPTION:Serenbe Farms Volunteer Day\nWhen: WednesdaysTimes: 8:00 AM – 10:00 AM or 10:00 AM – 12:00 PMWhere: Serenbe Farms\, Chattahoochee Hills\, GA \nSerenbe Farms Volunteer Day takes place every Wednesday at Serenbe Farms in Chattahoochee Hills. This weekly volunteer opportunity invites community members to experience life on a working farm and support sustainable agriculture. \nEach visit is different. Depending on the season\, volunteers may plant seedlings\, harvest produce\, prepare beds\, wash vegetables\, or care for crops. Because farm work changes throughout the year\, you may learn something new every time you participate. \nTo prepare for Serenbe Farms Volunteer Day\, dress for the weather. Bring water\, a hat\, gloves\, and sturdy boots. Farm work is active and hands-on\, so preparation helps ensure a safe and comfortable experience. \nIn addition\, volunteering offers more than just physical work. It provides a meaningful way to connect with the land and understand where local food comes from. As a result\, participants leave with a deeper appreciation for sustainable farming. \nWhether you are new to farming or already enjoy outdoor work\, this weekly volunteer opportunity supports both community and environmental stewardship. \nLearn more about the farm at https://serenbefarms.com. \nYou can sign up here.
URL:https://lifeatplay.co/event/serenbe-farms-volunteer-day/2026-11-18/
LOCATION:Serenbe Farms\, 8715 Atlanta Newnan Road\, Chattahoochee Hills\, GA\, 30268
CATEGORIES:Farms,In Serenbe,RSVP Required
END:VEVENT
BEGIN:VEVENT
DTSTART;TZID=America/New_York:20261125T080000
DTEND;TZID=America/New_York:20261125T120000
DTSTAMP:20260421T010617
CREATED:20260225T164858Z
LAST-MODIFIED:20260225T164858Z
UID:10007143-1795593600-1795608000@lifeatplay.co
SUMMARY:Serenbe Farms Volunteer Day | Get Your Hands Dirty Wednesdays
DESCRIPTION:Serenbe Farms Volunteer Day\nWhen: WednesdaysTimes: 8:00 AM – 10:00 AM or 10:00 AM – 12:00 PMWhere: Serenbe Farms\, Chattahoochee Hills\, GA \nSerenbe Farms Volunteer Day takes place every Wednesday at Serenbe Farms in Chattahoochee Hills. This weekly volunteer opportunity invites community members to experience life on a working farm and support sustainable agriculture. \nEach visit is different. Depending on the season\, volunteers may plant seedlings\, harvest produce\, prepare beds\, wash vegetables\, or care for crops. Because farm work changes throughout the year\, you may learn something new every time you participate. \nTo prepare for Serenbe Farms Volunteer Day\, dress for the weather. Bring water\, a hat\, gloves\, and sturdy boots. Farm work is active and hands-on\, so preparation helps ensure a safe and comfortable experience. \nIn addition\, volunteering offers more than just physical work. It provides a meaningful way to connect with the land and understand where local food comes from. As a result\, participants leave with a deeper appreciation for sustainable farming. \nWhether you are new to farming or already enjoy outdoor work\, this weekly volunteer opportunity supports both community and environmental stewardship. \nLearn more about the farm at https://serenbefarms.com. \nYou can sign up here.
URL:https://lifeatplay.co/event/serenbe-farms-volunteer-day/2026-11-25/
LOCATION:Serenbe Farms\, 8715 Atlanta Newnan Road\, Chattahoochee Hills\, GA\, 30268
CATEGORIES:Farms,In Serenbe,RSVP Required
END:VEVENT
BEGIN:VEVENT
DTSTART;TZID=America/New_York:20261202T080000
DTEND;TZID=America/New_York:20261202T120000
DTSTAMP:20260421T010617
CREATED:20260225T164858Z
LAST-MODIFIED:20260225T164858Z
UID:10007144-1796198400-1796212800@lifeatplay.co
SUMMARY:Serenbe Farms Volunteer Day | Get Your Hands Dirty Wednesdays
DESCRIPTION:Serenbe Farms Volunteer Day\nWhen: WednesdaysTimes: 8:00 AM – 10:00 AM or 10:00 AM – 12:00 PMWhere: Serenbe Farms\, Chattahoochee Hills\, GA \nSerenbe Farms Volunteer Day takes place every Wednesday at Serenbe Farms in Chattahoochee Hills. This weekly volunteer opportunity invites community members to experience life on a working farm and support sustainable agriculture. \nEach visit is different. Depending on the season\, volunteers may plant seedlings\, harvest produce\, prepare beds\, wash vegetables\, or care for crops. Because farm work changes throughout the year\, you may learn something new every time you participate. \nTo prepare for Serenbe Farms Volunteer Day\, dress for the weather. Bring water\, a hat\, gloves\, and sturdy boots. Farm work is active and hands-on\, so preparation helps ensure a safe and comfortable experience. \nIn addition\, volunteering offers more than just physical work. It provides a meaningful way to connect with the land and understand where local food comes from. As a result\, participants leave with a deeper appreciation for sustainable farming. \nWhether you are new to farming or already enjoy outdoor work\, this weekly volunteer opportunity supports both community and environmental stewardship. \nLearn more about the farm at https://serenbefarms.com. \nYou can sign up here.
URL:https://lifeatplay.co/event/serenbe-farms-volunteer-day/2026-12-02/
LOCATION:Serenbe Farms\, 8715 Atlanta Newnan Road\, Chattahoochee Hills\, GA\, 30268
CATEGORIES:Farms,In Serenbe,RSVP Required
END:VEVENT
END:VCALENDAR